BEGIN:VCALENDAR
VERSION:2.0
PRODID:-//Rich Villalva - ECPv6.15.20//NONSGML v1.0//EN
CALSCALE:GREGORIAN
METHOD:PUBLISH
X-ORIGINAL-URL:https://richvillalva.com
X-WR-CALDESC:Events for Rich Villalva
REFRESH-INTERVAL;VALUE=DURATION:PT1H
X-Robots-Tag:noindex
X-PUBLISHED-TTL:PT1H
BEGIN:VTIMEZONE
TZID:UTC
BEGIN:STANDARD
TZOFFSETFROM:+0000
TZOFFSETTO:+0000
TZNAME:UTC
DTSTART:20230101T000000
END:STANDARD
END:VTIMEZONE
BEGIN:VEVENT
DTSTART;TZID=UTC:20250327T190000
DTEND;TZID=UTC:20250327T213000
DTSTAMP:20260421T025943
CREATED:20250210T035155Z
LAST-MODIFIED:20250210T035155Z
UID:895-1743102000-1743111000@richvillalva.com
SUMMARY:The Standard @ The American Hotel
DESCRIPTION:
URL:https://richvillalva.com/event/the-standard-the-american-hotel-43/
LOCATION:The American Hotel\, 18-20 East Main Street\, Freehold\, NJ\, 07728\, United States
END:VEVENT
BEGIN:VEVENT
DTSTART;TZID=UTC:20250322T170000
DTEND;TZID=UTC:20250322T200000
DTSTAMP:20260421T025943
CREATED:20250209T172049Z
LAST-MODIFIED:20250209T172049Z
UID:736-1742662800-1742673600@richvillalva.com
SUMMARY:Bum Rogers
DESCRIPTION:
URL:https://richvillalva.com/event/bum-rogers-5/
LOCATION:Bum Rogers\, 2207 SW Central Ave.\, Seaside Park\, NJ\, 08752\, United States
END:VEVENT
BEGIN:VEVENT
DTSTART;TZID=UTC:20250320T190000
DTEND;TZID=UTC:20250320T213000
DTSTAMP:20260421T025943
CREATED:20250209T171737Z
LAST-MODIFIED:20250209T171904Z
UID:733-1742497200-1742506200@richvillalva.com
SUMMARY:The Standard @ The American Hotel
DESCRIPTION:
URL:https://richvillalva.com/event/the-standard-the-american-hotel-8/
LOCATION:The American Hotel\, 18-20 East Main Street\, Freehold\, NJ\, 07728\, United States
END:VEVENT
BEGIN:VEVENT
DTSTART;TZID=UTC:20250317T140000
DTEND;TZID=UTC:20250317T170000
DTSTAMP:20260421T025943
CREATED:20250209T171541Z
LAST-MODIFIED:20250209T171541Z
UID:731-1742220000-1742230800@richvillalva.com
SUMMARY:St. Patrick’s Day @ The Happy Hour
DESCRIPTION:
URL:https://richvillalva.com/event/st-patricks-day-the-happy-hour/
LOCATION:NJ
END:VEVENT
BEGIN:VEVENT
DTSTART;TZID=UTC:20250314T190000
DTEND;TZID=UTC:20250314T220000
DTSTAMP:20260421T025943
CREATED:20250209T171033Z
LAST-MODIFIED:20250209T171235Z
UID:727-1741978800-1741989600@richvillalva.com
SUMMARY:Maggie’s Bar and Grill
DESCRIPTION:
URL:https://richvillalva.com/event/maggies-bar-and-grill-4/
LOCATION:Maggies Bar and Restaurant\, 145 Country Club Drive\, Lakewood\, NJ\, 08701\, United States
END:VEVENT
BEGIN:VEVENT
DTSTART;TZID=UTC:20250313T190000
DTEND;TZID=UTC:20250313T213000
DTSTAMP:20260421T025943
CREATED:20250209T170920Z
LAST-MODIFIED:20250209T170920Z
UID:725-1741892400-1741901400@richvillalva.com
SUMMARY:The Standard @ The American Hotel
DESCRIPTION:
URL:https://richvillalva.com/event/the-standard-the-american-hotel-7/
LOCATION:The American Hotel\, 18-20 East Main Street\, Freehold\, NJ\, 07728\, United States
END:VEVENT
BEGIN:VEVENT
DTSTART;TZID=UTC:20250308T140000
DTEND;TZID=UTC:20250308T180000
DTSTAMP:20260421T025943
CREATED:20250209T170556Z
LAST-MODIFIED:20250209T170556Z
UID:723-1741442400-1741456800@richvillalva.com
SUMMARY:Rolling Stones Day
DESCRIPTION:
URL:https://richvillalva.com/event/rolling-stones-day-2/
LOCATION:The Headliner\, 1401 Route 35\, Neptune City\, NJ\, 07753\, United States
END:VEVENT
BEGIN:VEVENT
DTSTART;TZID=UTC:20250227T190000
DTEND;TZID=UTC:20250227T220000
DTSTAMP:20260421T025943
CREATED:20250209T165016Z
LAST-MODIFIED:20250209T165016Z
UID:714-1740682800-1740693600@richvillalva.com
SUMMARY:The Standard @ The American Hotel
DESCRIPTION:
URL:https://richvillalva.com/event/the-standard-the-american-hotel-6/
LOCATION:The American Hotel\, 18-20 East Main Street\, Freehold\, NJ\, 07728\, United States
END:VEVENT
BEGIN:VEVENT
DTSTART;TZID=UTC:20250226T190000
DTEND;TZID=UTC:20250226T220000
DTSTAMP:20260421T025943
CREATED:20250209T163228Z
LAST-MODIFIED:20250209T163228Z
UID:702-1740596400-1740607200@richvillalva.com
SUMMARY:70’s Night at The Headliner
DESCRIPTION:
URL:https://richvillalva.com/event/70s-night-at-the-headliner/
LOCATION:The Headliner\, 1401 Route 35\, Neptune City\, NJ\, 07753\, United States
END:VEVENT
BEGIN:VEVENT
DTSTART;TZID=UTC:20250220T190000
DTEND;TZID=UTC:20250220T220000
DTSTAMP:20260421T025943
CREATED:20250209T164801Z
LAST-MODIFIED:20250209T164801Z
UID:712-1740078000-1740088800@richvillalva.com
SUMMARY:The Standard @ The American Hotel
DESCRIPTION:
URL:https://richvillalva.com/event/the-standard-the-american-hotel-5/
LOCATION:The American Hotel\, 18-20 East Main Street\, Freehold\, NJ\, 07728\, United States
END:VEVENT
BEGIN:VEVENT
DTSTART;TZID=UTC:20250219T190000
DTEND;TZID=UTC:20250219T220000
DTSTAMP:20260421T025943
CREATED:20250209T163036Z
LAST-MODIFIED:20250209T163036Z
UID:700-1739991600-1740002400@richvillalva.com
SUMMARY:The Headliner
DESCRIPTION:
URL:https://richvillalva.com/event/the-headliner-3/
LOCATION:The Headliner\, 1401 Route 35\, Neptune City\, NJ\, 07753\, United States
END:VEVENT
BEGIN:VEVENT
DTSTART;TZID=UTC:20250217T190000
DTEND;TZID=UTC:20250217T220000
DTSTAMP:20260421T025943
CREATED:20250209T164521Z
LAST-MODIFIED:20250209T164521Z
UID:710-1739818800-1739829600@richvillalva.com
SUMMARY:The Happy Hour
DESCRIPTION:
URL:https://richvillalva.com/event/the-happy-hour-4/
LOCATION:The Happy Hour\, 730 Jamaica Blvd.\, Tom’s River\, NJ\, 08757\, United States
END:VEVENT
BEGIN:VEVENT
DTSTART;TZID=UTC:20250215T190000
DTEND;TZID=UTC:20250215T220000
DTSTAMP:20260421T025943
CREATED:20250209T162827Z
LAST-MODIFIED:20250209T163734Z
UID:698-1739646000-1739656800@richvillalva.com
SUMMARY:Maggie’s Bar and Grill
DESCRIPTION:
URL:https://richvillalva.com/event/maggies-bar-and-grill-3/
LOCATION:Maggies Bar and Restaurant\, 145 Country Club Drive\, Lakewood\, NJ\, 08701\, United States
END:VEVENT
BEGIN:VEVENT
DTSTART;TZID=UTC:20250213T190000
DTEND;TZID=UTC:20250213T213000
DTSTAMP:20260421T025943
CREATED:20250209T164259Z
LAST-MODIFIED:20250209T164259Z
UID:708-1739473200-1739482200@richvillalva.com
SUMMARY:The Standard@The American Hotel
DESCRIPTION:
URL:https://richvillalva.com/event/the-standardthe-american-hotel/
LOCATION:The American Hotel\, 18-20 East Main Street\, Freehold\, NJ\, 07728\, United States
END:VEVENT
BEGIN:VEVENT
DTSTART;TZID=UTC:20241228T170000
DTEND;TZID=UTC:20241228T200000
DTSTAMP:20260421T025943
CREATED:20241009T223207Z
LAST-MODIFIED:20241009T223207Z
UID:677-1735405200-1735416000@richvillalva.com
SUMMARY:Bum Rogers
DESCRIPTION:
URL:https://richvillalva.com/event/bum-rogers-2/
LOCATION:Bum Rogers\, 2207 SW Central Ave.\, Seaside Park\, NJ\, 08752\, United States
END:VEVENT
BEGIN:VEVENT
DTSTART;TZID=UTC:20241226T190000
DTEND;TZID=UTC:20241226T213000
DTSTAMP:20260421T025943
CREATED:20241009T223100Z
LAST-MODIFIED:20241009T223100Z
UID:675-1735239600-1735248600@richvillalva.com
SUMMARY:The Standard American @ The American Hotel
DESCRIPTION:
URL:https://richvillalva.com/event/the-standard-american-the-american-hotel-7/
LOCATION:The Standard American @ The American Hotel
END:VEVENT
BEGIN:VEVENT
DTSTART;TZID=UTC:20241221T150000
DTEND;TZID=UTC:20241221T170000
DTSTAMP:20260421T025943
CREATED:20241009T222930Z
LAST-MODIFIED:20241009T222930Z
UID:673-1734793200-1734800400@richvillalva.com
SUMMARY:Tomasello Winery Tasting Room
DESCRIPTION:
URL:https://richvillalva.com/event/tomasello-winery-tasting-room-2/
LOCATION:Tomasello Winery\, 109 Walnut Ave.\, Cranford\, NJ\, 07016\, United States
END:VEVENT
BEGIN:VEVENT
DTSTART;TZID=UTC:20241220T190000
DTEND;TZID=UTC:20241220T220000
DTSTAMP:20260421T025943
CREATED:20241009T222822Z
LAST-MODIFIED:20241009T222822Z
UID:671-1734721200-1734732000@richvillalva.com
SUMMARY:Maggie’s Bar and Grill
DESCRIPTION:
URL:https://richvillalva.com/event/maggies-bar-and-grill-2/
LOCATION:Max’s Bar and Grill\, 25 Matilda Terrace\, Long Branch\, NJ\, 07740\, United States
END:VEVENT
BEGIN:VEVENT
DTSTART;TZID=UTC:20241219T190000
DTEND;TZID=UTC:20241219T213000
DTSTAMP:20260421T025943
CREATED:20241009T222604Z
LAST-MODIFIED:20241009T222604Z
UID:669-1734634800-1734643800@richvillalva.com
SUMMARY:The Standard American @ The American Hotel
DESCRIPTION:
URL:https://richvillalva.com/event/the-standard-american-the-american-hotel-6/
LOCATION:The Standard American @ The American Hotel
END:VEVENT
BEGIN:VEVENT
DTSTART;TZID=UTC:20241216T190000
DTEND;TZID=UTC:20241216T213000
DTSTAMP:20260421T025943
CREATED:20241009T222445Z
LAST-MODIFIED:20241009T222445Z
UID:667-1734375600-1734384600@richvillalva.com
SUMMARY:The Happy Hour
DESCRIPTION:
URL:https://richvillalva.com/event/the-happy-hour-3/
LOCATION:The Happy Hour\, 730 Jamaica Blvd.\, Tom’s River\, NJ\, 08757\, United States
END:VEVENT
BEGIN:VEVENT
DTSTART;TZID=UTC:20241212T190000
DTEND;TZID=UTC:20241212T213000
DTSTAMP:20260421T025943
CREATED:20241009T222323Z
LAST-MODIFIED:20241009T222323Z
UID:665-1734030000-1734039000@richvillalva.com
SUMMARY:The Standard American @ The American Hotel
DESCRIPTION:
URL:https://richvillalva.com/event/the-standard-american-the-american-hotel-5/
LOCATION:The Standard American @ The American Hotel
END:VEVENT
BEGIN:VEVENT
DTSTART;TZID=UTC:20241205T190000
DTEND;TZID=UTC:20241205T213000
DTSTAMP:20260421T025943
CREATED:20241009T222207Z
LAST-MODIFIED:20241009T222207Z
UID:663-1733425200-1733434200@richvillalva.com
SUMMARY:The Standard American @ The American Hotel
DESCRIPTION:
URL:https://richvillalva.com/event/the-standard-american-the-american-hotel-4/
LOCATION:The Standard American@The American Hotel\, 18-20 East Main Street\, Freehold\, NJ\, 07728\, United States
END:VEVENT
BEGIN:VEVENT
DTSTART;TZID=UTC:20241123T170000
DTEND;TZID=UTC:20241123T200000
DTSTAMP:20260421T025943
CREATED:20241009T221824Z
LAST-MODIFIED:20241009T221824Z
UID:661-1732381200-1732392000@richvillalva.com
SUMMARY:Bum Rogers
DESCRIPTION:
URL:https://richvillalva.com/event/bum-rogers/
LOCATION:Bum Rogers\, 2207 SW Central Ave.\, Seaside Park\, NJ\, 08752\, United States
END:VEVENT
BEGIN:VEVENT
DTSTART;TZID=UTC:20241122T190000
DTEND;TZID=UTC:20241122T220000
DTSTAMP:20260421T025943
CREATED:20241009T221709Z
LAST-MODIFIED:20241009T221709Z
UID:659-1732302000-1732312800@richvillalva.com
SUMMARY:Maggie’s Bar and Grill
DESCRIPTION:
URL:https://richvillalva.com/event/maggies-bar-and-grill/
LOCATION:Max’s Bar and Grill\, 25 Matilda Terrace\, Long Branch\, NJ\, 07740\, United States
END:VEVENT
BEGIN:VEVENT
DTSTART;TZID=UTC:20241121T190000
DTEND;TZID=UTC:20241121T213000
DTSTAMP:20260421T025943
CREATED:20241009T221235Z
LAST-MODIFIED:20241009T221235Z
UID:653-1732215600-1732224600@richvillalva.com
SUMMARY:The Standard American @ The American Hotel
DESCRIPTION:
URL:https://richvillalva.com/event/the-standard-american-the-american-hotel-3/
LOCATION:The Standard American@The American Hotel\, 18-20 East Main Street\, Freehold\, NJ\, 07728\, United States
END:VEVENT
BEGIN:VEVENT
DTSTART;TZID=UTC:20241118T190000
DTEND;TZID=UTC:20241118T220000
DTSTAMP:20260421T025943
CREATED:20241009T221523Z
LAST-MODIFIED:20241009T221523Z
UID:657-1731956400-1731967200@richvillalva.com
SUMMARY:The Happy Hour
DESCRIPTION:
URL:https://richvillalva.com/event/the-happy-hour-2/
LOCATION:The Happy Hour\, 730 Jamaica Blvd.\, Tom’s River\, NJ\, 08757\, United States
END:VEVENT
BEGIN:VEVENT
DTSTART;TZID=UTC:20241116T150000
DTEND;TZID=UTC:20241116T170000
DTSTAMP:20260421T025943
CREATED:20241009T221412Z
LAST-MODIFIED:20241009T221412Z
UID:655-1731769200-1731776400@richvillalva.com
SUMMARY:Tomasello Winery Tasting Room
DESCRIPTION:
URL:https://richvillalva.com/event/tomasello-winery-tasting-room/
LOCATION:Tomasello Winery\, 109 Walnut Ave.\, Cranford\, NJ\, 07016\, United States
END:VEVENT
BEGIN:VEVENT
DTSTART;TZID=UTC:20241114T190000
DTEND;TZID=UTC:20241114T213000
DTSTAMP:20260421T025943
CREATED:20241009T221107Z
LAST-MODIFIED:20241009T221107Z
UID:651-1731610800-1731619800@richvillalva.com
SUMMARY:The Standard American @ The American Hotel
DESCRIPTION:
URL:https://richvillalva.com/event/the-standard-american-the-american-hotel-2/
LOCATION:The Standard American @ The American Hotel
END:VEVENT
BEGIN:VEVENT
DTSTART;TZID=UTC:20241107T190000
DTEND;TZID=UTC:20241107T213000
DTSTAMP:20260421T025943
CREATED:20241009T220007Z
LAST-MODIFIED:20241009T220007Z
UID:642-1731006000-1731015000@richvillalva.com
SUMMARY:The Standard American @ The American Hotel
DESCRIPTION:
URL:https://richvillalva.com/event/the-standard-american-the-american-hotel/
LOCATION:The Standard American@The American Hotel\, 18-20 East Main Street\, Freehold\, NJ\, 07728\, United States
END:VEVENT
BEGIN:VEVENT
DTSTART;TZID=UTC:20241026T170000
DTEND;TZID=UTC:20241026T200000
DTSTAMP:20260421T025943
CREATED:20241010T010147Z
LAST-MODIFIED:20241010T010147Z
UID:688-1729962000-1729972800@richvillalva.com
SUMMARY:Bum Rogers
DESCRIPTION:
URL:https://richvillalva.com/event/bum-rogers-3/
LOCATION:Bum Rogers\, 2207 SW Central Ave.\, Seaside Park\, NJ\, 08752\, United States
END:VEVENT
END:VCALENDAR