BEGIN:VCALENDAR
VERSION:2.0
PRODID:-//Rich Villalva - ECPv6.15.20//NONSGML v1.0//EN
CALSCALE:GREGORIAN
METHOD:PUBLISH
X-ORIGINAL-URL:https://richvillalva.com
X-WR-CALDESC:Events for Rich Villalva
REFRESH-INTERVAL;VALUE=DURATION:PT1H
X-Robots-Tag:noindex
X-PUBLISHED-TTL:PT1H
BEGIN:VTIMEZONE
TZID:UTC
BEGIN:STANDARD
TZOFFSETFROM:+0000
TZOFFSETTO:+0000
TZNAME:UTC
DTSTART:20240101T000000
END:STANDARD
END:VTIMEZONE
BEGIN:VEVENT
DTSTART;TZID=UTC:20250727T150000
DTEND;TZID=UTC:20250727T180000
DTSTAMP:20260420T194014
CREATED:20250209T200718Z
LAST-MODIFIED:20250209T200718Z
UID:809-1753628400-1753639200@richvillalva.com
SUMMARY:Green Knoll Grill
DESCRIPTION:
URL:https://richvillalva.com/event/green-knoll-grill-2/
LOCATION:Green Knoll Grill\, 645 US HIGHWAY 202/206\, Bridgewater\, NJ\, 08807\, United States
END:VEVENT
BEGIN:VEVENT
DTSTART;TZID=UTC:20250726T170000
DTEND;TZID=UTC:20250726T200000
DTSTAMP:20260420T194014
CREATED:20250209T200620Z
LAST-MODIFIED:20250209T200620Z
UID:807-1753549200-1753560000@richvillalva.com
SUMMARY:Bum Rogers
DESCRIPTION:
URL:https://richvillalva.com/event/bum-rogers-9/
LOCATION:Bum Rogers\, 2207 SW Central Ave.\, Seaside Park\, NJ\, 08752\, United States
END:VEVENT
BEGIN:VEVENT
DTSTART;TZID=UTC:20250724T190000
DTEND;TZID=UTC:20250724T213000
DTSTAMP:20260420T194014
CREATED:20250210T042709Z
LAST-MODIFIED:20250210T042709Z
UID:908-1753383600-1753392600@richvillalva.com
SUMMARY:The Standard @ The American Hotel
DESCRIPTION:
URL:https://richvillalva.com/event/the-standard-the-american-hotel-46/
LOCATION:The American Hotel\, 18-20 East Main Street\, Freehold\, NJ\, 07728\, United States
END:VEVENT
BEGIN:VEVENT
DTSTART;TZID=UTC:20250722T190000
DTEND;TZID=UTC:20250722T220000
DTSTAMP:20260420T194014
CREATED:20250209T200212Z
LAST-MODIFIED:20250416T161004Z
UID:803-1753210800-1753221600@richvillalva.com
SUMMARY:The Happy Hour
DESCRIPTION:
URL:https://richvillalva.com/event/the-happy-hour-8/
LOCATION:The Happy Hour\, 730 Jamaica Blvd.\, Tom’s River\, NJ\, 08757\, United States
END:VEVENT
BEGIN:VEVENT
DTSTART;TZID=UTC:20250720T100000
DTEND;TZID=UTC:20250720T120000
DTSTAMP:20260420T194014
CREATED:20250501T130125Z
LAST-MODIFIED:20250501T130125Z
UID:943-1753005600-1753012800@richvillalva.com
SUMMARY:Brick Tiki Boat
DESCRIPTION:
URL:https://richvillalva.com/event/brick-tiki-boat/
LOCATION:Mantoloking Marina\, 802 Mantoloking Rd.\, Brick Township\, NJ\, 08723\, United States
END:VEVENT
BEGIN:VEVENT
DTSTART;TZID=UTC:20250717T190000
DTEND;TZID=UTC:20250717T213000
DTSTAMP:20260420T194014
CREATED:20250210T042423Z
LAST-MODIFIED:20250210T042423Z
UID:906-1752778800-1752787800@richvillalva.com
SUMMARY:The Standard @ The American Hotel
DESCRIPTION:
URL:https://richvillalva.com/event/the-standard-the-american-hotel-45/
LOCATION:The American Hotel\, 18-20 East Main Street\, Freehold\, NJ\, 07728\, United States
END:VEVENT
BEGIN:VEVENT
DTSTART;TZID=UTC:20250712T143000
DTEND;TZID=UTC:20250712T170000
DTSTAMP:20260420T194014
CREATED:20250209T200025Z
LAST-MODIFIED:20250209T200025Z
UID:801-1752330600-1752339600@richvillalva.com
SUMMARY:Tomasello Winery Tasting Room
DESCRIPTION:
URL:https://richvillalva.com/event/tomasello-winery-tasting-room-6/
LOCATION:Tomasello Winery\, 109 Walnut Ave.\, Cranford\, NJ\, 07016\, United States
END:VEVENT
BEGIN:VEVENT
DTSTART;TZID=UTC:20250710T190000
DTEND;TZID=UTC:20250710T213000
DTSTAMP:20260420T194014
CREATED:20250209T195919Z
LAST-MODIFIED:20250209T195919Z
UID:799-1752174000-1752183000@richvillalva.com
SUMMARY:The Standard @ The American Hotel
DESCRIPTION:
URL:https://richvillalva.com/event/the-standard-the-american-hotel-22/
LOCATION:The American Hotel\, 18-20 East Main Street\, Freehold\, NJ\, 07728\, United States
END:VEVENT
BEGIN:VEVENT
DTSTART;TZID=UTC:20250706T103000
DTEND;TZID=UTC:20250706T120000
DTSTAMP:20260420T194014
CREATED:20250209T195725Z
LAST-MODIFIED:20250209T195725Z
UID:796-1751797800-1751803200@richvillalva.com
SUMMARY:Belmar Tiki Boat
DESCRIPTION:
URL:https://richvillalva.com/event/belmar-tiki-boat/
LOCATION:Belmar Tiki Boat\, Belmar Marina\, Belmar\, NJ\, 07719\, United States
END:VEVENT
BEGIN:VEVENT
DTSTART;TZID=UTC:20250703T190000
DTEND;TZID=UTC:20250703T213000
DTSTAMP:20260420T194014
CREATED:20250209T195219Z
LAST-MODIFIED:20250209T195219Z
UID:794-1751569200-1751578200@richvillalva.com
SUMMARY:The Standard @ The American Hotel
DESCRIPTION:
URL:https://richvillalva.com/event/the-standard-the-american-hotel-21/
LOCATION:The American Hotel\, 18-20 East Main Street\, Freehold\, NJ\, 07728\, United States
END:VEVENT
BEGIN:VEVENT
DTSTART;TZID=UTC:20250629T103000
DTEND;TZID=UTC:20250629T120000
DTSTAMP:20260420T194014
CREATED:20250209T194859Z
LAST-MODIFIED:20250501T124836Z
UID:792-1751193000-1751198400@richvillalva.com
SUMMARY:Tom’s River Tiki Boat
DESCRIPTION:
URL:https://richvillalva.com/event/toms-river-tiki-boat/
LOCATION:Nelson Marine Basin\, 12 Lake Dr.\, Island Heights\, NJ\, 08732\, United States
END:VEVENT
BEGIN:VEVENT
DTSTART;TZID=UTC:20250628T170000
DTEND;TZID=UTC:20250628T170000
DTSTAMP:20260420T194014
CREATED:20250209T194739Z
LAST-MODIFIED:20250209T194739Z
UID:790-1751130000-1751130000@richvillalva.com
SUMMARY:Bum Rogers
DESCRIPTION:
URL:https://richvillalva.com/event/bum-rogers-8/
LOCATION:Bum Rogers\, 2207 SW Central Ave.\, Seaside Park\, NJ\, 08752\, United States
END:VEVENT
BEGIN:VEVENT
DTSTART;TZID=UTC:20250626T190000
DTEND;TZID=UTC:20250626T213000
DTSTAMP:20260420T194014
CREATED:20250209T194631Z
LAST-MODIFIED:20250209T194631Z
UID:788-1750964400-1750973400@richvillalva.com
SUMMARY:The Standard @ The American Hotel
DESCRIPTION:
URL:https://richvillalva.com/event/the-standard-the-american-hotel-20/
LOCATION:The American Hotel\, 18-20 East Main Street\, Freehold\, NJ\, 07728\, United States
END:VEVENT
BEGIN:VEVENT
DTSTART;TZID=UTC:20250622T160000
DTEND;TZID=UTC:20250622T190000
DTSTAMP:20260420T194014
CREATED:20250416T162501Z
LAST-MODIFIED:20250416T162501Z
UID:928-1750608000-1750618800@richvillalva.com
SUMMARY:Shark River Beach and Yacht Club ( private)
DESCRIPTION:
URL:https://richvillalva.com/event/shark-river-beach-and-yacht-club-private/
LOCATION:NJ
END:VEVENT
BEGIN:VEVENT
DTSTART;TZID=UTC:20250619T190000
DTEND;TZID=UTC:20250619T213000
DTSTAMP:20260420T194014
CREATED:20250209T194404Z
LAST-MODIFIED:20250209T194404Z
UID:786-1750359600-1750368600@richvillalva.com
SUMMARY:The Standard @ The American Hotel
DESCRIPTION:
URL:https://richvillalva.com/event/the-standard-the-american-hotel-19/
LOCATION:The American Hotel\, 18-20 East Main Street\, Freehold\, NJ\, 07728\, United States
END:VEVENT
BEGIN:VEVENT
DTSTART;TZID=UTC:20250617T190000
DTEND;TZID=UTC:20250617T220000
DTSTAMP:20260420T194014
CREATED:20250209T194202Z
LAST-MODIFIED:20250416T160905Z
UID:784-1750186800-1750197600@richvillalva.com
SUMMARY:The Happy Hour
DESCRIPTION:
URL:https://richvillalva.com/event/the-happy-hour-7/
LOCATION:The Happy Hour\, 730 Jamaica Blvd.\, Tom’s River\, NJ\, 08757\, United States
END:VEVENT
BEGIN:VEVENT
DTSTART;TZID=UTC:20250614T073000
DTEND;TZID=UTC:20250614T223000
DTSTAMP:20260420T194014
CREATED:20250209T200509Z
LAST-MODIFIED:20250209T200509Z
UID:805-1749886200-1749940200@richvillalva.com
SUMMARY:The Happy Hour w/ Plan A
DESCRIPTION:
URL:https://richvillalva.com/event/the-happy-hour-w-plan-a/
LOCATION:The Happy Hour\, 730 Jamaica Blvd.\, Tom’s River\, NJ\, 08757\, United States
END:VEVENT
BEGIN:VEVENT
DTSTART;TZID=UTC:20250612T190000
DTEND;TZID=UTC:20250612T213000
DTSTAMP:20260420T194014
CREATED:20250209T193808Z
LAST-MODIFIED:20250209T193808Z
UID:780-1749754800-1749763800@richvillalva.com
SUMMARY:The Standard @ The American Hotel
DESCRIPTION:
URL:https://richvillalva.com/event/the-standard-the-american-hotel-18/
LOCATION:The American Hotel\, 18-20 East Main Street\, Freehold\, NJ\, 07728\, United States
END:VEVENT
BEGIN:VEVENT
DTSTART;TZID=UTC:20250605T190000
DTEND;TZID=UTC:20250605T213000
DTSTAMP:20260420T194014
CREATED:20250209T193542Z
LAST-MODIFIED:20250209T193542Z
UID:778-1749150000-1749159000@richvillalva.com
SUMMARY:The Standard @ The American Hotel
DESCRIPTION:
URL:https://richvillalva.com/event/the-standard-the-american-hotel-17/
LOCATION:The American Hotel\, 18-20 East Main Street\, Freehold\, NJ\, 07728\, United States
END:VEVENT
BEGIN:VEVENT
DTSTART;TZID=UTC:20250601T150000
DTEND;TZID=UTC:20250601T180000
DTSTAMP:20260420T194014
CREATED:20250209T193332Z
LAST-MODIFIED:20250209T193332Z
UID:774-1748790000-1748800800@richvillalva.com
SUMMARY:Green Knoll Grill
DESCRIPTION:
URL:https://richvillalva.com/event/green-knoll-grill/
LOCATION:Green Knoll Grill\, 645 US HIGHWAY 202/206\, Bridgewater\, NJ\, 08807\, United States
END:VEVENT
BEGIN:VEVENT
DTSTART;TZID=UTC:20250529T190000
DTEND;TZID=UTC:20250529T213000
DTSTAMP:20260420T194014
CREATED:20250210T040534Z
LAST-MODIFIED:20250210T040534Z
UID:900-1748545200-1748554200@richvillalva.com
SUMMARY:The Standard @ The American Hotel
DESCRIPTION:
URL:https://richvillalva.com/event/the-standard-the-american-hotel-44/
LOCATION:The American Hotel\, 18-20 East Main Street\, Freehold\, NJ\, 07728\, United States
END:VEVENT
BEGIN:VEVENT
DTSTART;TZID=UTC:20250524T170000
DTEND;TZID=UTC:20250524T200000
DTSTAMP:20260420T194014
CREATED:20250209T182227Z
LAST-MODIFIED:20250209T182227Z
UID:768-1748106000-1748116800@richvillalva.com
SUMMARY:Bum Rogers
DESCRIPTION:
URL:https://richvillalva.com/event/bum-rogers-7/
LOCATION:Bum Rogers\, 2207 SW Central Ave.\, Seaside Park\, NJ\, 08752\, United States
END:VEVENT
BEGIN:VEVENT
DTSTART;TZID=UTC:20250522T190000
DTEND;TZID=UTC:20250522T213000
DTSTAMP:20260420T194014
CREATED:20250209T182112Z
LAST-MODIFIED:20250209T182112Z
UID:766-1747940400-1747949400@richvillalva.com
SUMMARY:The Standard @ The American Hotel
DESCRIPTION:
URL:https://richvillalva.com/event/the-standard-the-american-hotel-16/
LOCATION:The American Hotel\, 18-20 East Main Street\, Freehold\, NJ\, 07728\, United States
END:VEVENT
BEGIN:VEVENT
DTSTART;TZID=UTC:20250520T190000
DTEND;TZID=UTC:20250520T220000
DTSTAMP:20260420T194014
CREATED:20250209T181901Z
LAST-MODIFIED:20250416T160618Z
UID:764-1747767600-1747778400@richvillalva.com
SUMMARY:The Happy Hour
DESCRIPTION:
URL:https://richvillalva.com/event/the-happy-hour-6/
LOCATION:The Happy Hour\, 730 Jamaica Blvd.\, Tom’s River\, NJ\, 08757\, United States
END:VEVENT
BEGIN:VEVENT
DTSTART;TZID=UTC:20250518T150000
DTEND;TZID=UTC:20250518T180000
DTSTAMP:20260420T194014
CREATED:20250210T040045Z
LAST-MODIFIED:20250210T040045Z
UID:897-1747580400-1747591200@richvillalva.com
SUMMARY:Green Knoll Grill
DESCRIPTION:
URL:https://richvillalva.com/event/green-knoll-grill-5/
LOCATION:Green Knoll Grill\, 645 US HIGHWAY 202/206\, Bridgewater\, NJ\, 08807\, United States
END:VEVENT
BEGIN:VEVENT
DTSTART;TZID=UTC:20250515T190000
DTEND;TZID=UTC:20250515T213000
DTSTAMP:20260420T194014
CREATED:20250209T181757Z
LAST-MODIFIED:20250209T181757Z
UID:762-1747335600-1747344600@richvillalva.com
SUMMARY:The Standard @ The American Hotel
DESCRIPTION:
URL:https://richvillalva.com/event/the-standard-the-american-hotel-15/
LOCATION:The American Hotel\, 18-20 East Main Street\, Freehold\, NJ\, 07728\, United States
END:VEVENT
BEGIN:VEVENT
DTSTART;TZID=UTC:20250511T163000
DTEND;TZID=UTC:20250511T193000
DTSTAMP:20260420T194014
CREATED:20250501T132217Z
LAST-MODIFIED:20250501T132217Z
UID:947-1746981000-1746991800@richvillalva.com
SUMMARY:Avon Promenade Waterfront Grill- Mother’s Day
DESCRIPTION:
URL:https://richvillalva.com/event/avon-promenade-waterfront-grill-mothers-day/
LOCATION:Avon Promemade Waterfront Grill\, 600 Ocean Ave.\, Avon-by-the-Sea\, NJ\, 07717\, United States
END:VEVENT
BEGIN:VEVENT
DTSTART;TZID=UTC:20250510T140000
DTEND;TZID=UTC:20250510T170000
DTSTAMP:20260420T194014
CREATED:20250209T181551Z
LAST-MODIFIED:20250209T181551Z
UID:760-1746885600-1746896400@richvillalva.com
SUMMARY:Tomasello Winery Tasting Room
DESCRIPTION:
URL:https://richvillalva.com/event/tomasello-winery-tasting-room-4/
LOCATION:Tomasello Winery\, 109 Walnut Ave.\, Cranford\, NJ\, 07016\, United States
END:VEVENT
BEGIN:VEVENT
DTSTART;TZID=UTC:20250508T190000
DTEND;TZID=UTC:20250508T213000
DTSTAMP:20260420T194014
CREATED:20250209T181418Z
LAST-MODIFIED:20250209T181418Z
UID:758-1746730800-1746739800@richvillalva.com
SUMMARY:The Standard @ The American Hotel
DESCRIPTION:
URL:https://richvillalva.com/event/the-standard-the-american-hotel-14/
LOCATION:The American Hotel\, 18-20 East Main Street\, Freehold\, NJ\, 07728\, United States
END:VEVENT
BEGIN:VEVENT
DTSTART;TZID=UTC:20250501T190000
DTEND;TZID=UTC:20250501T213000
DTSTAMP:20260420T194014
CREATED:20250209T181151Z
LAST-MODIFIED:20250209T181151Z
UID:756-1746126000-1746135000@richvillalva.com
SUMMARY:The Standard @ The American Hotel
DESCRIPTION:
URL:https://richvillalva.com/event/the-standard-the-american-hotel-13/
LOCATION:The American Hotel\, 18-20 East Main Street\, Freehold\, NJ\, 07728\, United States
END:VEVENT
END:VCALENDAR