BEGIN:VCALENDAR
VERSION:2.0
PRODID:-//Rich Villalva - ECPv6.15.20//NONSGML v1.0//EN
CALSCALE:GREGORIAN
METHOD:PUBLISH
X-WR-CALNAME:Rich Villalva
X-ORIGINAL-URL:https://richvillalva.com
X-WR-CALDESC:Events for Rich Villalva
REFRESH-INTERVAL;VALUE=DURATION:PT1H
X-Robots-Tag:noindex
X-PUBLISHED-TTL:PT1H
BEGIN:VTIMEZONE
TZID:UTC
BEGIN:STANDARD
TZOFFSETFROM:+0000
TZOFFSETTO:+0000
TZNAME:UTC
DTSTART:20240101T000000
END:STANDARD
END:VTIMEZONE
BEGIN:VEVENT
DTSTART;TZID=UTC:20251108T143000
DTEND;TZID=UTC:20251108T170000
DTSTAMP:20260420T143934
CREATED:20250210T033019Z
LAST-MODIFIED:20250210T033019Z
UID:874-1762612200-1762621200@richvillalva.com
SUMMARY:Tomasello Winery Tasting Room
DESCRIPTION:
URL:https://richvillalva.com/event/tomasello-winery-tasting-room-10/
LOCATION:Tomasello Winery\, 109 Walnut Ave.\, Cranford\, NJ\, 07016\, United States
END:VEVENT
BEGIN:VEVENT
DTSTART;TZID=UTC:20251106T190000
DTEND;TZID=UTC:20251106T213000
DTSTAMP:20260420T143934
CREATED:20250210T032908Z
LAST-MODIFIED:20250210T032908Z
UID:872-1762455600-1762464600@richvillalva.com
SUMMARY:The Standard @ The American Hotel
DESCRIPTION:
URL:https://richvillalva.com/event/the-standard-the-american-hotel-37/
LOCATION:The American Hotel\, 18-20 East Main Street\, Freehold\, NJ\, 07728\, United States
END:VEVENT
BEGIN:VEVENT
DTSTART;TZID=UTC:20251030T190000
DTEND;TZID=UTC:20251030T213000
DTSTAMP:20260420T143934
CREATED:20250210T032237Z
LAST-MODIFIED:20250210T032237Z
UID:870-1761850800-1761859800@richvillalva.com
SUMMARY:The Standard @ The American Hotel
DESCRIPTION:
URL:https://richvillalva.com/event/the-standard-the-american-hotel-36/
LOCATION:The American Hotel\, 18-20 East Main Street\, Freehold\, NJ\, 07728\, United States
END:VEVENT
BEGIN:VEVENT
DTSTART;TZID=UTC:20251025T170000
DTEND;TZID=UTC:20251025T200000
DTSTAMP:20260420T143934
CREATED:20250210T032101Z
LAST-MODIFIED:20250210T032101Z
UID:868-1761411600-1761422400@richvillalva.com
SUMMARY:Bum Rogers
DESCRIPTION:
URL:https://richvillalva.com/event/bum-rogers-12/
LOCATION:Bum Rogers\, 2207 SW Central Ave.\, Seaside Park\, NJ\, 08752\, United States
END:VEVENT
BEGIN:VEVENT
DTSTART;TZID=UTC:20251023T190000
DTEND;TZID=UTC:20251023T213000
DTSTAMP:20260420T143934
CREATED:20250210T031947Z
LAST-MODIFIED:20250210T031947Z
UID:866-1761246000-1761255000@richvillalva.com
SUMMARY:The Standard @ The American Hotel
DESCRIPTION:
URL:https://richvillalva.com/event/the-standard-the-american-hotel-35/
LOCATION:The American Hotel\, 18-20 East Main Street\, Freehold\, NJ\, 07728\, United States
END:VEVENT
BEGIN:VEVENT
DTSTART;TZID=UTC:20251021T190000
DTEND;TZID=UTC:20251021T220000
DTSTAMP:20260420T143934
CREATED:20250210T031759Z
LAST-MODIFIED:20250416T161224Z
UID:864-1761073200-1761084000@richvillalva.com
SUMMARY:The Happy Hour
DESCRIPTION:
URL:https://richvillalva.com/event/the-happy-hour-10/
LOCATION:The Happy Hour\, 730 Jamaica Blvd.\, Tom’s River\, NJ\, 08757\, United States
END:VEVENT
BEGIN:VEVENT
DTSTART;TZID=UTC:20251016T190000
DTEND;TZID=UTC:20251016T213000
DTSTAMP:20260420T143934
CREATED:20250210T031640Z
LAST-MODIFIED:20250210T031640Z
UID:862-1760641200-1760650200@richvillalva.com
SUMMARY:The Standard @ The American Hotel
DESCRIPTION:
URL:https://richvillalva.com/event/the-standard-the-american-hotel-34/
LOCATION:The American Hotel\, 18-20 East Main Street\, Freehold\, NJ\, 07728\, United States
END:VEVENT
BEGIN:VEVENT
DTSTART;TZID=UTC:20251011T143000
DTEND;TZID=UTC:20251011T170000
DTSTAMP:20260420T143934
CREATED:20250210T031438Z
LAST-MODIFIED:20250210T031438Z
UID:860-1760193000-1760202000@richvillalva.com
SUMMARY:Tomasello Winery Tasting Room
DESCRIPTION:
URL:https://richvillalva.com/event/tomasello-winery-tasting-room-9/
LOCATION:Tomasello Winery\, 109 Walnut Ave.\, Cranford\, NJ\, 07016\, United States
END:VEVENT
BEGIN:VEVENT
DTSTART;TZID=UTC:20251009T190000
DTEND;TZID=UTC:20251009T213000
DTSTAMP:20260420T143934
CREATED:20250210T031316Z
LAST-MODIFIED:20250210T031316Z
UID:858-1760036400-1760045400@richvillalva.com
SUMMARY:The Standard @ The American Hotel
DESCRIPTION:
URL:https://richvillalva.com/event/the-standard-the-american-hotel-33/
LOCATION:The American Hotel\, 18-20 East Main Street\, Freehold\, NJ\, 07728\, United States
END:VEVENT
BEGIN:VEVENT
DTSTART;TZID=UTC:20251002T190000
DTEND;TZID=UTC:20251002T213000
DTSTAMP:20260420T143934
CREATED:20250210T030922Z
LAST-MODIFIED:20250210T030922Z
UID:855-1759431600-1759440600@richvillalva.com
SUMMARY:The Standard @ The American Hotel
DESCRIPTION:
URL:https://richvillalva.com/event/the-standard-the-american-hotel-32/
LOCATION:The American Hotel\, 18-20 East Main Street\, Freehold\, NJ\, 07728\, United States
END:VEVENT
BEGIN:VEVENT
DTSTART;TZID=UTC:20250927T170000
DTEND;TZID=UTC:20250927T200000
DTSTAMP:20260420T143934
CREATED:20250210T030655Z
LAST-MODIFIED:20250210T030655Z
UID:853-1758992400-1759003200@richvillalva.com
SUMMARY:Bum Rogers
DESCRIPTION:
URL:https://richvillalva.com/event/bum-rogers-11/
LOCATION:Bum Rogers\, 2207 SW Central Ave.\, Seaside Park\, NJ\, 08752\, United States
END:VEVENT
BEGIN:VEVENT
DTSTART;TZID=UTC:20250925T190000
DTEND;TZID=UTC:20250925T213000
DTSTAMP:20260420T143934
CREATED:20250210T030551Z
LAST-MODIFIED:20250210T030551Z
UID:851-1758826800-1758835800@richvillalva.com
SUMMARY:The Standard @ The American Hotel
DESCRIPTION:
URL:https://richvillalva.com/event/the-standard-the-american-hotel-31/
LOCATION:The American Hotel\, 18-20 East Main Street\, Freehold\, NJ\, 07728\, United States
END:VEVENT
BEGIN:VEVENT
DTSTART;TZID=UTC:20250920T080000
DTEND;TZID=UTC:20250920T170000
DTSTAMP:20260420T143934
CREATED:20250416T162746Z
LAST-MODIFIED:20250416T162746Z
UID:931-1758355200-1758387600@richvillalva.com
SUMMARY:Private Event with Full Tilt - Band
DESCRIPTION:
URL:https://richvillalva.com/event/private-event-with-full-tilt-band/
LOCATION:Seaside\,NJ
END:VEVENT
BEGIN:VEVENT
DTSTART;TZID=UTC:20250918T190000
DTEND;TZID=UTC:20250918T213000
DTSTAMP:20260420T143934
CREATED:20250210T030438Z
LAST-MODIFIED:20250210T030438Z
UID:849-1758222000-1758231000@richvillalva.com
SUMMARY:The Standard @ The American Hotel
DESCRIPTION:
URL:https://richvillalva.com/event/the-standard-the-american-hotel-30/
LOCATION:The American Hotel\, 18-20 East Main Street\, Freehold\, NJ\, 07728\, United States
END:VEVENT
BEGIN:VEVENT
DTSTART;TZID=UTC:20250916T190000
DTEND;TZID=UTC:20250916T220000
DTSTAMP:20260420T143934
CREATED:20250210T030313Z
LAST-MODIFIED:20250416T161142Z
UID:847-1758049200-1758060000@richvillalva.com
SUMMARY:The Happy Hour
DESCRIPTION:
URL:https://richvillalva.com/event/the-happy-hour-9/
LOCATION:The Happy Hour\, 730 Jamaica Blvd.\, Tom’s River\, NJ\, 08757\, United States
END:VEVENT
BEGIN:VEVENT
DTSTART;TZID=UTC:20250913T143000
DTEND;TZID=UTC:20250913T170000
DTSTAMP:20260420T143934
CREATED:20250210T025943Z
LAST-MODIFIED:20250210T025943Z
UID:841-1757773800-1757782800@richvillalva.com
SUMMARY:Tomasello Winery Tasting Room
DESCRIPTION:
URL:https://richvillalva.com/event/tomasello-winery-tasting-room-8/
LOCATION:Tomasello Winery\, 109 Walnut Ave.\, Cranford\, NJ\, 07016\, United States
END:VEVENT
BEGIN:VEVENT
DTSTART;TZID=UTC:20250911T190000
DTEND;TZID=UTC:20250911T213000
DTSTAMP:20260420T143934
CREATED:20250210T030200Z
LAST-MODIFIED:20250210T030200Z
UID:845-1757617200-1757626200@richvillalva.com
SUMMARY:The Standard @ The American Hotel
DESCRIPTION:
URL:https://richvillalva.com/event/the-standard-the-american-hotel-29/
LOCATION:The American Hotel\, 18-20 East Main Street\, Freehold\, NJ\, 07728\, United States
END:VEVENT
BEGIN:VEVENT
DTSTART;TZID=UTC:20250904T190000
DTEND;TZID=UTC:20250904T213000
DTSTAMP:20260420T143934
CREATED:20250210T025800Z
LAST-MODIFIED:20250210T025800Z
UID:838-1757012400-1757021400@richvillalva.com
SUMMARY:The Standard @ The American Hotel
DESCRIPTION:
URL:https://richvillalva.com/event/the-standard-the-american-hotel-28/
LOCATION:The American Hotel\, 18-20 East Main Street\, Freehold\, NJ\, 07728\, United States
END:VEVENT
BEGIN:VEVENT
DTSTART;TZID=UTC:20250831T150000
DTEND;TZID=UTC:20250831T180000
DTSTAMP:20260420T143934
CREATED:20250209T202711Z
LAST-MODIFIED:20250209T202711Z
UID:833-1756652400-1756663200@richvillalva.com
SUMMARY:Green Knoll Grill
DESCRIPTION:
URL:https://richvillalva.com/event/green-knoll-grill-4/
LOCATION:Green Knoll Grill\, 645 US HIGHWAY 202/206\, Bridgewater\, NJ\, 08807\, United States
END:VEVENT
BEGIN:VEVENT
DTSTART;TZID=UTC:20250828T190000
DTEND;TZID=UTC:20250828T213000
DTSTAMP:20260420T143934
CREATED:20250209T202621Z
LAST-MODIFIED:20250209T202621Z
UID:831-1756407600-1756416600@richvillalva.com
SUMMARY:The Standard @ The American Hotel
DESCRIPTION:
URL:https://richvillalva.com/event/the-standard-the-american-hotel-27/
LOCATION:The American Hotel\, 18-20 East Main Street\, Freehold\, NJ\, 07728\, United States
END:VEVENT
BEGIN:VEVENT
DTSTART;TZID=UTC:20250823T170000
DTEND;TZID=UTC:20250823T200000
DTSTAMP:20260420T143934
CREATED:20250209T202425Z
LAST-MODIFIED:20250209T202425Z
UID:827-1755968400-1755979200@richvillalva.com
SUMMARY:Bum Rogers
DESCRIPTION:
URL:https://richvillalva.com/event/bum-rogers-10/
LOCATION:Bum Rogers\, 2207 SW Central Ave.\, Seaside Park\, NJ\, 08752\, United States
END:VEVENT
BEGIN:VEVENT
DTSTART;TZID=UTC:20250821T190000
DTEND;TZID=UTC:20250821T213000
DTSTAMP:20260420T143934
CREATED:20250209T202340Z
LAST-MODIFIED:20250209T202340Z
UID:825-1755802800-1755811800@richvillalva.com
SUMMARY:The Standard @ The American Hotel
DESCRIPTION:
URL:https://richvillalva.com/event/the-standard-the-american-hotel-26/
LOCATION:The American Hotel\, 18-20 East Main Street\, Freehold\, NJ\, 07728\, United States
END:VEVENT
BEGIN:VEVENT
DTSTART;TZID=UTC:20250819T190000
DTEND;TZID=UTC:20250819T220000
DTSTAMP:20260420T143934
CREATED:20250210T043620Z
LAST-MODIFIED:20250416T161048Z
UID:911-1755630000-1755640800@richvillalva.com
SUMMARY:The Happy Hour
DESCRIPTION:
URL:https://richvillalva.com/event/the-happy-hour-13/
LOCATION:The Happy Hour\, 730 Jamaica Blvd.\, Tom’s River\, NJ\, 08757\, United States
END:VEVENT
BEGIN:VEVENT
DTSTART;TZID=UTC:20250817T150000
DTEND;TZID=UTC:20250817T180000
DTSTAMP:20260420T143934
CREATED:20250209T202521Z
LAST-MODIFIED:20250209T202521Z
UID:829-1755442800-1755453600@richvillalva.com
SUMMARY:Green Knoll Grill
DESCRIPTION:
URL:https://richvillalva.com/event/green-knoll-grill-3/
LOCATION:Green Knoll Grill\, 645 US HIGHWAY 202/206\, Bridgewater\, NJ\, 08807\, United States
END:VEVENT
BEGIN:VEVENT
DTSTART;TZID=UTC:20250816T180000
DTEND;TZID=UTC:20250816T220000
DTSTAMP:20260420T143934
CREATED:20250416T163401Z
LAST-MODIFIED:20250416T163401Z
UID:935-1755367200-1755381600@richvillalva.com
SUMMARY:Jackson Am Vets w/ Full Tilt- Band
DESCRIPTION:
URL:https://richvillalva.com/event/jackson-am-vets-w-full-tilt-band/
LOCATION:Jackson Am Vets Post 2\, 1290 Toms River Rd.\, Jackson Township\, NJ\, 08527\, United States
END:VEVENT
BEGIN:VEVENT
DTSTART;TZID=UTC:20250814T190000
DTEND;TZID=UTC:20250814T213000
DTSTAMP:20260420T143934
CREATED:20250209T202105Z
LAST-MODIFIED:20250209T202105Z
UID:822-1755198000-1755207000@richvillalva.com
SUMMARY:The Standard @ The American Hotel
DESCRIPTION:
URL:https://richvillalva.com/event/the-standard-the-american-hotel-25/
LOCATION:The American Hotel\, 18-20 East Main Street\, Freehold\, NJ\, 07728\, United States
END:VEVENT
BEGIN:VEVENT
DTSTART;TZID=UTC:20250809T143000
DTEND;TZID=UTC:20250809T170000
DTSTAMP:20260420T143934
CREATED:20250209T201957Z
LAST-MODIFIED:20250209T201957Z
UID:820-1754749800-1754758800@richvillalva.com
SUMMARY:Tomasello Winery Tasting Room
DESCRIPTION:
URL:https://richvillalva.com/event/tomasello-winery-tasting-room-7/
LOCATION:Tomasello Winery\, 109 Walnut Ave.\, Cranford\, NJ\, 07016\, United States
END:VEVENT
BEGIN:VEVENT
DTSTART;TZID=UTC:20250807T190000
DTEND;TZID=UTC:20250807T213000
DTSTAMP:20260420T143934
CREATED:20250209T201838Z
LAST-MODIFIED:20250209T201838Z
UID:818-1754593200-1754602200@richvillalva.com
SUMMARY:The Standard @ The American Hotel
DESCRIPTION:
URL:https://richvillalva.com/event/the-standard-the-american-hotel-24/
LOCATION:The American Hotel\, 18-20 East Main Street\, Freehold\, NJ\, 07728\, United States
END:VEVENT
BEGIN:VEVENT
DTSTART;TZID=UTC:20250802T180000
DTEND;TZID=UTC:20250802T210000
DTSTAMP:20260420T143934
CREATED:20250209T201609Z
LAST-MODIFIED:20250209T201609Z
UID:813-1754157600-1754168400@richvillalva.com
SUMMARY:Edgewater Beach and Cabana Club ( private)
DESCRIPTION:
URL:https://richvillalva.com/event/edgewater-beach-and-cabana-club-private/
LOCATION:Edgewater Beach and Cabana Club\, 1465 Ocean Ave.\, Sea Bright\, NJ\, 07760\, United States
END:VEVENT
BEGIN:VEVENT
DTSTART;TZID=UTC:20250731T190000
DTEND;TZID=UTC:20250731T213000
DTSTAMP:20260420T143934
CREATED:20250209T200828Z
LAST-MODIFIED:20250209T200828Z
UID:811-1753988400-1753997400@richvillalva.com
SUMMARY:The Standard @ The American Hotel
DESCRIPTION:
URL:https://richvillalva.com/event/the-standard-the-american-hotel-23/
LOCATION:The American Hotel\, 18-20 East Main Street\, Freehold\, NJ\, 07728\, United States
END:VEVENT
END:VCALENDAR