BEGIN:VCALENDAR
VERSION:2.0
PRODID:-//Rich Villalva - ECPv6.15.20//NONSGML v1.0//EN
CALSCALE:GREGORIAN
METHOD:PUBLISH
X-ORIGINAL-URL:https://richvillalva.com
X-WR-CALDESC:Events for Rich Villalva
REFRESH-INTERVAL;VALUE=DURATION:PT1H
X-Robots-Tag:noindex
X-PUBLISHED-TTL:PT1H
BEGIN:VTIMEZONE
TZID:UTC
BEGIN:STANDARD
TZOFFSETFROM:+0000
TZOFFSETTO:+0000
TZNAME:UTC
DTSTART:20230101T000000
END:STANDARD
END:VTIMEZONE
BEGIN:VEVENT
DTSTART;TZID=UTC:20240916T190000
DTEND;TZID=UTC:20240916T220000
DTSTAMP:20260421T103030
CREATED:20240823T005656Z
LAST-MODIFIED:20240913T023149Z
UID:389-1726513200-1726524000@richvillalva.com
SUMMARY:The Happy Hour
DESCRIPTION:
URL:https://richvillalva.com/event/the-happy-hour/
LOCATION:The Happy Hour\, 730 Jamaica Blvd.\, Tom’s River\, NJ\, 08757\, United States
END:VEVENT
BEGIN:VEVENT
DTSTART;TZID=UTC:20240907T143000
DTEND;TZID=UTC:20240907T170000
DTSTAMP:20260421T103030
CREATED:20240904T235601Z
LAST-MODIFIED:20240913T023223Z
UID:536-1725719400-1725728400@richvillalva.com
SUMMARY:Tomasello Winery Tasting Room
DESCRIPTION:
URL:https://richvillalva.com/event/tomasello-winery/
LOCATION:Tomasello Winery\, 109 Walnut Ave.\, Cranford\, NJ\, 07016\, United States
END:VEVENT
BEGIN:VEVENT
DTSTART;TZID=UTC:20240903T190000
DTEND;TZID=UTC:20240903T220000
DTSTAMP:20260421T103030
CREATED:20240820T033035Z
LAST-MODIFIED:20240913T023246Z
UID:173-1725390000-1725400800@richvillalva.com
SUMMARY:The Headliner
DESCRIPTION:
URL:https://richvillalva.com/event/the-headliner/
LOCATION:NJ
END:VEVENT
BEGIN:VEVENT
DTSTART;TZID=UTC:20240902T140000
DTEND;TZID=UTC:20240902T170000
DTSTAMP:20260421T103030
CREATED:20240820T032842Z
LAST-MODIFIED:20240913T023302Z
UID:168-1725285600-1725296400@richvillalva.com
SUMMARY:Fox Hollow Vinyard
DESCRIPTION:
URL:https://richvillalva.com/event/fox-hollow-vinyard/
LOCATION:Fox Hollow Vineyards\, 939 Holmdel Rd.\, Holmdel\, NJ\, 07733\, United States
END:VEVENT
END:VCALENDAR